BEGIN:VCALENDAR
VERSION:2.0
PRODID:-//EventsCase//EventsCase//EN
BEGIN:VEVENT
TZID:UTC
TZ:+00
UID:69eb3469c5f30
DTSTAMP:20260424T091417Z
SUMMARY:ELIXIR EOSC-ENTRUST  (Open) Sustainability Workshop - virtual meeti
 ng
DESCRIPTION:https://elixir-events.eventscase.com/agenda/event/45317
LOCATION:
DTSTART:20251023T120000Z
DTEND:20251023T140000Z
X-ALT-DESC;FMTTYPE=text/html;ENCODING=QUOTED-PRINTABLE:https://elixir-event
 s.eventscase.com/agenda/event/45317
END:VEVENT
END:VCALENDAR